BEGIN:VCALENDAR
VERSION:2.0
PRODID:-//hacksw/handcal//NONSGML v1.0//EN
BEGIN:VEVENT
DTSTART:20260506
DTEND:20260507
LOCATION:ville-cernay
SUMMARY:SPECTACLE "THÉODORE MONOD"
DESCRIPTION:https://www.ville-cernay.fr/Agenda/SPECTACLE-THEODORE-MONOD-01174.html
END:VEVENT
END:VCALENDAR